BEGIN:VCALENDAR
VERSION:2.0
PRODID:-//Diggle Band - ECPv5.0.2.1//NONSGML v1.0//EN
CALSCALE:GREGORIAN
METHOD:PUBLISH
X-WR-CALNAME:Diggle Band
X-ORIGINAL-URL:http://diggleband.com
X-WR-CALDESC:Events for Diggle Band
BEGIN:VTIMEZONE
TZID:UTC
BEGIN:STANDARD
TZOFFSETFROM:+0000
TZOFFSETTO:+0000
TZNAME:UTC
DTSTART:20210101T000000
END:STANDARD
END:VTIMEZONE
BEGIN:VEVENT
DTSTART;TZID=UTC:20211207T203000
DTEND;TZID=UTC:20211207T220000
DTSTAMP:20260419T174713
CREATED:20211127T120326Z
LAST-MODIFIED:20211127T120723Z
UID:288-1638909000-1638914400@diggleband.com
SUMMARY:Alma Lodge Hotel Stockport
DESCRIPTION:\n\n\n \n\n\n\n\n\n\n\n\n\n\n
URL:http://diggleband.com/event/alma-lodge-hotel-stockport/
END:VEVENT
END:VCALENDAR