BEGIN:VCALENDAR
VERSION:2.0
PRODID:-//Diggle Band - ECPv5.0.2.1//NONSGML v1.0//EN
CALSCALE:GREGORIAN
METHOD:PUBLISH
X-WR-CALNAME:Diggle Band
X-ORIGINAL-URL:http://diggleband.com
X-WR-CALDESC:Events for Diggle Band
BEGIN:VTIMEZONE
TZID:UTC
BEGIN:STANDARD
TZOFFSETFROM:+0000
TZOFFSETTO:+0000
TZNAME:UTC
DTSTART:20210101T000000
END:STANDARD
END:VTIMEZONE
BEGIN:VEVENT
DTSTART;TZID=UTC:20211003T193000
DTEND;TZID=UTC:20211003T220000
DTSTAMP:20260419T194240
CREATED:20210924T150221Z
LAST-MODIFIED:20210924T150221Z
UID:212-1633289400-1633298400@diggleband.com
SUMMARY:Boarshurst Band Club Concert
DESCRIPTION:\n\n\n \n\n\n\n\n\n\n\n\n\n\n
URL:http://diggleband.com/event/boarshurst-band-club-concert-2/
END:VEVENT
END:VCALENDAR