BEGIN:VCALENDAR
VERSION:2.0
PRODID:-//Diggle Band - ECPv5.0.2.1//NONSGML v1.0//EN
CALSCALE:GREGORIAN
METHOD:PUBLISH
X-WR-CALNAME:Diggle Band
X-ORIGINAL-URL:http://diggleband.com
X-WR-CALDESC:Events for Diggle Band
BEGIN:VTIMEZONE
TZID:UTC
BEGIN:STANDARD
TZOFFSETFROM:+0000
TZOFFSETTO:+0000
TZNAME:UTC
DTSTART:20200101T000000
END:STANDARD
END:VTIMEZONE
BEGIN:VEVENT
DTSTART;TZID=UTC:20200510T200000
DTEND;TZID=UTC:20200510T220000
DTSTAMP:20260419T211359
CREATED:20200314T115213Z
LAST-MODIFIED:20200314T115214Z
UID:141-1589140800-1589148000@diggleband.com
SUMMARY:Boarshurst Band Club Concert
DESCRIPTION:
URL:http://diggleband.com/event/boarshurst-band-club-concert/
LOCATION:Boarshurst Band Club\, Greenbridge Lane\, Greenfield\, Lancashire\, OL3 7EW\, United Kingdom
END:VEVENT
END:VCALENDAR