BEGIN:VCALENDAR
VERSION:2.0
PRODID:-//Diggle Band - ECPv5.0.2.1//NONSGML v1.0//EN
CALSCALE:GREGORIAN
METHOD:PUBLISH
X-WR-CALNAME:Diggle Band
X-ORIGINAL-URL:http://diggleband.com
X-WR-CALDESC:Events for Diggle Band
BEGIN:VTIMEZONE
TZID:UTC
BEGIN:STANDARD
TZOFFSETFROM:+0000
TZOFFSETTO:+0000
TZNAME:UTC
DTSTART:20210101T000000
END:STANDARD
END:VTIMEZONE
BEGIN:VEVENT
DTSTART;TZID=UTC:20211218T100000
DTEND;TZID=UTC:20211218T140000
DTSTAMP:20260419T173453
CREATED:20211123T144355Z
LAST-MODIFIED:20211123T144427Z
UID:262-1639821600-1639836000@diggleband.com
SUMMARY:Carolling: Ashton Market
DESCRIPTION:\n\n\n \n\n\n\n\n\n\n\n\n\n\n
URL:http://diggleband.com/event/carolling-ashton-market/
LOCATION:Ashton Market\, United States
END:VEVENT
END:VCALENDAR