BEGIN:VCALENDAR
VERSION:2.0
PRODID:-//Diggle Band - ECPv5.0.2.1//NONSGML v1.0//EN
CALSCALE:GREGORIAN
METHOD:PUBLISH
X-WR-CALNAME:Diggle Band
X-ORIGINAL-URL:http://diggleband.com
X-WR-CALDESC:Events for Diggle Band
BEGIN:VTIMEZONE
TZID:UTC
BEGIN:STANDARD
TZOFFSETFROM:+0000
TZOFFSETTO:+0000
TZNAME:UTC
DTSTART:20210101T000000
END:STANDARD
END:VTIMEZONE
BEGIN:VEVENT
DTSTART;TZID=UTC:20211204T000000
DTEND;TZID=UTC:20211204T235959
DTSTAMP:20260419T172250
CREATED:20211123T144041Z
LAST-MODIFIED:20211123T144041Z
UID:260-1638576000-1638662399@diggleband.com
SUMMARY:Carolling: Hyde Artisan Market :12-12:45\, 2-2:45
DESCRIPTION:
URL:http://diggleband.com/event/carolling-hyde-artisan-market-12-1245-2-245/
END:VEVENT
END:VCALENDAR