BEGIN:VCALENDAR
VERSION:2.0
PRODID:-//Diggle Band - ECPv5.0.2.1//NONSGML v1.0//EN
CALSCALE:GREGORIAN
METHOD:PUBLISH
X-WR-CALNAME:Diggle Band
X-ORIGINAL-URL:http://diggleband.com
X-WR-CALDESC:Events for Diggle Band
BEGIN:VTIMEZONE
TZID:UTC
BEGIN:STANDARD
TZOFFSETFROM:+0000
TZOFFSETTO:+0000
TZNAME:UTC
DTSTART:20210101T000000
END:STANDARD
END:VTIMEZONE
BEGIN:VEVENT
DTSTART;TZID=UTC:20211114T140000
DTEND;TZID=UTC:20211114T160000
DTSTAMP:20260419T190407
CREATED:20210716T064756Z
LAST-MODIFIED:20210924T150805Z
UID:206-1636898400-1636905600@diggleband.com
SUMMARY:Diggle Band Club Remembrance Concert
DESCRIPTION:\n\n\nRemembrance Concert \n\n\n\n\n\n\n\n\n\n\n
URL:http://diggleband.com/event/diggle-band-club/
END:VEVENT
END:VCALENDAR