BEGIN:VCALENDAR
VERSION:2.0
PRODID:-//Diggle Band - ECPv5.0.2.1//NONSGML v1.0//EN
CALSCALE:GREGORIAN
METHOD:PUBLISH
X-WR-CALNAME:Diggle Band
X-ORIGINAL-URL:http://diggleband.com
X-WR-CALDESC:Events for Diggle Band
BEGIN:VTIMEZONE
TZID:UTC
BEGIN:STANDARD
TZOFFSETFROM:+0000
TZOFFSETTO:+0000
TZNAME:UTC
DTSTART:20220101T000000
END:STANDARD
END:VTIMEZONE
BEGIN:VEVENT
DTSTART;TZID=UTC:20221209T193000
DTEND;TZID=UTC:20221209T213000
DTSTAMP:20260419T152503
CREATED:20221123T193051Z
LAST-MODIFIED:20221123T193052Z
UID:425-1670614200-1670621400@diggleband.com
SUMMARY:Friezland Church
DESCRIPTION:\n\n\nwith Choir \n\n\n\n\n\n\n\n\n\n\n
URL:http://diggleband.com/event/friezland-church/
END:VEVENT
END:VCALENDAR