BEGIN:VCALENDAR
VERSION:2.0
PRODID:-//Diggle Band - ECPv5.0.2.1//NONSGML v1.0//EN
CALSCALE:GREGORIAN
METHOD:PUBLISH
X-WR-CALNAME:Diggle Band
X-ORIGINAL-URL:http://diggleband.com
X-WR-CALDESC:Events for Diggle Band
BEGIN:VTIMEZONE
TZID:UTC
BEGIN:STANDARD
TZOFFSETFROM:+0000
TZOFFSETTO:+0000
TZNAME:UTC
DTSTART:20220101T000000
END:STANDARD
END:VTIMEZONE
BEGIN:VEVENT
DTSTART;TZID=UTC:20221002T100000
DTEND;TZID=UTC:20221002T120000
DTSTAMP:20260419T153936
CREATED:20220822T173853Z
LAST-MODIFIED:20220822T173853Z
UID:414-1664704800-1664712000@diggleband.com
SUMMARY:Harvest Festival
DESCRIPTION:\n\n\n \n\n\n\n\n\n\n\n\n\n\n
URL:http://diggleband.com/event/harvest-festival/
END:VEVENT
END:VCALENDAR