BEGIN:VCALENDAR
VERSION:2.0
PRODID:-//Diggle Band - ECPv5.0.2.1//NONSGML v1.0//EN
CALSCALE:GREGORIAN
METHOD:PUBLISH
X-WR-CALNAME:Diggle Band
X-ORIGINAL-URL:http://diggleband.com
X-WR-CALDESC:Events for Diggle Band
BEGIN:VTIMEZONE
TZID:UTC
BEGIN:STANDARD
TZOFFSETFROM:+0000
TZOFFSETTO:+0000
TZNAME:UTC
DTSTART:20220101T000000
END:STANDARD
END:VTIMEZONE
BEGIN:VEVENT
DTSTART;TZID=UTC:20220618T000000
DTEND;TZID=UTC:20220618T235959
DTSTAMP:20260419T171823
CREATED:20220305T144742Z
LAST-MODIFIED:20220305T144809Z
UID:326-1655510400-1655596799@diggleband.com
SUMMARY:Meltham march and hymn contest
DESCRIPTION:\n\n\nTime to be confirmed \n\n\n\n\n\n\n\n\n\n\n
URL:http://diggleband.com/event/meltham-march-and-hymn-contest/
END:VEVENT
END:VCALENDAR