BEGIN:VCALENDAR
VERSION:2.0
PRODID:-//Diggle Band - ECPv5.0.2.1//NONSGML v1.0//EN
CALSCALE:GREGORIAN
METHOD:PUBLISH
X-WR-CALNAME:Diggle Band
X-ORIGINAL-URL:http://diggleband.com
X-WR-CALDESC:Events for Diggle Band
BEGIN:VTIMEZONE
TZID:UTC
BEGIN:STANDARD
TZOFFSETFROM:+0000
TZOFFSETTO:+0000
TZNAME:UTC
DTSTART:20220101T000000
END:STANDARD
END:VTIMEZONE
BEGIN:VEVENT
DTSTART;TZID=UTC:20220101T113000
DTEND;TZID=UTC:20220101T133000
DTSTAMP:20260419T175610
CREATED:20211123T144700Z
LAST-MODIFIED:20211212T185519Z
UID:267-1641036600-1641043800@diggleband.com
SUMMARY:New Year's Day Concert at the Diggle Hotel
DESCRIPTION:\n\n\n \n\n\n\n\n\n\n\n\n\n\n
URL:http://diggleband.com/event/new-years-day-service/
END:VEVENT
END:VCALENDAR