BEGIN:VCALENDAR
VERSION:2.0
PRODID:-//Diggle Band - ECPv5.0.2.1//NONSGML v1.0//EN
CALSCALE:GREGORIAN
METHOD:PUBLISH
X-WR-CALNAME:Diggle Band
X-ORIGINAL-URL:http://diggleband.com
X-WR-CALDESC:Events for Diggle Band
BEGIN:VTIMEZONE
TZID:UTC
BEGIN:STANDARD
TZOFFSETFROM:+0000
TZOFFSETTO:+0000
TZNAME:UTC
DTSTART:20220101T000000
END:STANDARD
END:VTIMEZONE
BEGIN:VEVENT
DTSTART;TZID=UTC:20220319T000000
DTEND;TZID=UTC:20220319T235900
DTSTAMP:20260419T190553
CREATED:20211123T145238Z
LAST-MODIFIED:20220305T145419Z
UID:271-1647648000-1647734340@diggleband.com
SUMMARY:OMBA Massed bands: Civic Hall Uppermill
DESCRIPTION:\n\n\nStarts 7:15pm\,  Diggle play at 8:10pm \n\n\n\n\n\n\n\n\n\n\n
URL:http://diggleband.com/event/omba-massed-bands-civic-hall-uppermill/
END:VEVENT
END:VCALENDAR