BEGIN:VCALENDAR
VERSION:2.0
PRODID:-//Diggle Band - ECPv5.0.2.1//NONSGML v1.0//EN
CALSCALE:GREGORIAN
METHOD:PUBLISH
X-WR-CALNAME:Diggle Band
X-ORIGINAL-URL:http://diggleband.com
X-WR-CALDESC:Events for Diggle Band
BEGIN:VTIMEZONE
TZID:UTC
BEGIN:STANDARD
TZOFFSETFROM:+0000
TZOFFSETTO:+0000
TZNAME:UTC
DTSTART:20210101T000000
END:STANDARD
END:VTIMEZONE
BEGIN:VEVENT
DTSTART;TZID=UTC:20211210T000000
DTEND;TZID=UTC:20211210T235959
DTSTAMP:20260419T175817
CREATED:20210924T151045Z
LAST-MODIFIED:20210924T151056Z
UID:219-1639094400-1639180799@diggleband.com
SUMMARY:Uppermill Civic Hall Concert with Saddleworth Singers
DESCRIPTION:\n\n\nStart time to be confirmed \n\n\n\n\n\n\n\n\n\n\n
URL:http://diggleband.com/event/uppermill-civic-hall-concert-with-saddleworth-singers/
END:VEVENT
END:VCALENDAR